BEGIN:VCALENDAR
VERSION:2.0
METHOD:PUBLISH
BEGIN:VEVENT
DTSTAMP:20260425T130146Z
DTSTART:20231010T160000Z
DTEND:20231010T223000Z
SUMMARY:The Walk-In Counselling Clinic - South East Ottawa Community Centre
LOCATION:Video or phone only
END:VEVENT
END:VCALENDAR
