BEGIN:VCALENDAR
VERSION:2.0
METHOD:PUBLISH
BEGIN:VEVENT
DTSTAMP:20260420T094242Z
DTSTART:20231213T170000Z
DTEND:20231214T010000Z
SUMMARY:The Walk-In Counselling Clinic - Centretown Community Health Centre
LOCATION:Video or phone only
END:VEVENT
END:VCALENDAR
