BEGIN:VCALENDAR
VERSION:2.0
METHOD:PUBLISH
BEGIN:VEVENT
DTSTAMP:20260420T100338Z
DTSTART:20231214T171500Z
DTEND:20231214T184500Z
SUMMARY:Entre Filles - Vanier Community Health Centre
LOCATION:École catholique Samuel-Genest, 704 Carson's Road, Ottawa
END:VEVENT
END:VCALENDAR
