BEGIN:VCALENDAR
VERSION:2.0
METHOD:PUBLISH
BEGIN:VEVENT
DTSTAMP:20260421T082938Z
DTSTART:20240508T190000Z
DTEND:20240509T000000Z
SUMMARY:Virtual groups for parents
LOCATION:virtual
END:VEVENT
END:VCALENDAR
