BEGIN:VCALENDAR
VERSION:2.0
METHOD:PUBLISH
BEGIN:VEVENT
DTSTAMP:20260425T123142Z
DTSTART:20240509T190000Z
DTEND:20240510T000000Z
SUMMARY:Therapeutic Groups for children and youth
LOCATION:virtual
END:VEVENT
END:VCALENDAR
