BEGIN:VCALENDAR
VERSION:2.0
METHOD:PUBLISH
BEGIN:VEVENT
DTSTAMP:20260421T081554Z
DTSTART:20240514T190000Z
DTEND:20240515T000000Z
SUMMARY:Virtual groups for parents
LOCATION:virtual
END:VEVENT
END:VCALENDAR
