BEGIN:VCALENDAR
VERSION:2.0
METHOD:PUBLISH
BEGIN:VEVENT
DTSTAMP:20260425T110457Z
DTSTART:20240605T190000Z
DTEND:20240606T000000Z
SUMMARY:Therapeutic Groups for children and youth
LOCATION:virtual
END:VEVENT
END:VCALENDAR
