BEGIN:VCALENDAR
VERSION:2.0
METHOD:PUBLISH
BEGIN:VEVENT
DTSTAMP:20260425T124906Z
DTSTART:20240617T190000Z
DTEND:20240618T000000Z
SUMMARY:Therapeutic Groups for children and youth
LOCATION:virtual
END:VEVENT
END:VCALENDAR
