BEGIN:VCALENDAR
VERSION:2.0
METHOD:PUBLISH
BEGIN:VEVENT
DTSTAMP:20260425T122848Z
DTSTART:20240716T190000Z
DTEND:20240717T000000Z
SUMMARY:Therapeutic Groups for children and youth
LOCATION:virtual
END:VEVENT
END:VCALENDAR
