BEGIN:VCALENDAR
VERSION:2.0
METHOD:PUBLISH
BEGIN:VEVENT
DTSTAMP:20260421T083210Z
DTSTART:20240815T190000Z
DTEND:20240816T000000Z
SUMMARY:Virtual groups for parents
LOCATION:virtual
END:VEVENT
END:VCALENDAR
