BEGIN:VCALENDAR
VERSION:2.0
METHOD:PUBLISH
BEGIN:VEVENT
DTSTAMP:20260421T081956Z
DTSTART:20250313T160000Z
DTEND:20250314T000000Z
SUMMARY:Youth Services Bureau Walk-In Clinic
LOCATION:2225 Mer Bleue Road
END:VEVENT
END:VCALENDAR
