BEGIN:VCALENDAR
VERSION:2.0
METHOD:PUBLISH
BEGIN:VEVENT
DTSTAMP:20260422T053539Z
DTSTART:20250508T130000Z
DTEND:20250509T000000Z
SUMMARY:PLEO Family Peer Supporters - various Eastern Ontario locations
LOCATION:in person and virtual
END:VEVENT
END:VCALENDAR
