BEGIN:VCALENDAR
VERSION:2.0
METHOD:PUBLISH
BEGIN:VEVENT
DTSTAMP:20260422T040306Z
DTSTART:20250520T130000Z
DTEND:20250521T000000Z
SUMMARY:PLEO Family Peer Supporters - various Eastern Ontario locations
LOCATION:in person and virtual
END:VEVENT
END:VCALENDAR
