BEGIN:VCALENDAR
VERSION:2.0
METHOD:PUBLISH
BEGIN:VEVENT
DTSTAMP:20260420T081641Z
DTSTART:20260402T230000Z
DTEND:20260403T003000Z
SUMMARY:SMART Recovery family and friends
LOCATION:Join here: https://us02web.zoom.us/j/293138126
END:VEVENT
END:VCALENDAR
