BEGIN:VCALENDAR
VERSION:2.0
METHOD:PUBLISH
BEGIN:VEVENT
DTSTAMP:20260422T134642Z
DTSTART:20260417T130000Z
DTEND:20260418T000000Z
SUMMARY:Rockland Youth Wellness Hub 
LOCATION:1517 Laurier Street, Rockland, On, K4K 1C8
END:VEVENT
END:VCALENDAR
