BEGIN:VCALENDAR
VERSION:2.0
METHOD:PUBLISH
BEGIN:VEVENT
DTSTAMP:20260422T151237Z
DTSTART:20260418T140000Z
DTEND:20260419T000000Z
SUMMARY:Youth Wellness Hub - Cornwall
LOCATION:212 Pitt Street, Cornwall, ON, K6J 3P6
END:VEVENT
END:VCALENDAR
