BEGIN:VCALENDAR
VERSION:2.0
METHOD:PUBLISH
BEGIN:VEVENT
DTSTAMP:20260422T063400Z
DTSTART:20260423T150000Z
DTEND:20260423T230000Z
SUMMARY:Rockland Youth Wellness Hub 
LOCATION:1517 Laurier Street, Rockland, On, K4K 1C8
END:VEVENT
END:VCALENDAR
