BEGIN:VCALENDAR
VERSION:2.0
METHOD:PUBLISH
BEGIN:VEVENT
DTSTAMP:20260422T063204Z
DTSTART:20260425T140000Z
DTEND:20260425T180000Z
SUMMARY:Rockland Youth Wellness Hub 
LOCATION:1517 Laurier Street, Rockland, On, K4K 1C8
END:VEVENT
END:VCALENDAR
