BEGIN:VCALENDAR
VERSION:2.0
METHOD:PUBLISH
BEGIN:VEVENT
DTSTAMP:20260425T122241Z
DTSTART:20260512T230000Z
DTEND:20260513T003000Z
SUMMARY:Practice Change Champions
LOCATION:zoom
END:VEVENT
END:VCALENDAR
