BEGIN:VCALENDAR
VERSION:2.0
METHOD:PUBLISH
BEGIN:VEVENT
DTSTAMP:20260420T093918Z
DTSTART:20260723T160000Z
DTEND:20260724T000000Z
SUMMARY:Counselling for youth, their parents and their caregivers
LOCATION:300 - 1355 Bank Street, Ottawa
END:VEVENT
END:VCALENDAR
