BEGIN:VCALENDAR
VERSION:2.0
METHOD:PUBLISH
BEGIN:VEVENT
DTSTAMP:20260420T081348Z
DTSTART:20260813T160000Z
DTEND:20260814T000000Z
SUMMARY:Counselling for youth, their parents and their caregivers
LOCATION:300 - 1355 Bank Street, Ottawa
END:VEVENT
END:VCALENDAR
