BEGIN:VCALENDAR
VERSION:2.0
METHOD:PUBLISH
BEGIN:VEVENT
DTSTAMP:20260421T082411Z
DTSTART:20260305T170000Z
DTEND:20260306T010000Z
SUMMARY:Services de consultation pour les jeunes, leurs parents et leurs aidants
LOCATION:300 - 1355 rue Bank, Ottawa
END:VEVENT
END:VCALENDAR
