BEGIN:VCALENDAR
VERSION:2.0
METHOD:PUBLISH
BEGIN:VEVENT
DTSTAMP:20260421T124135Z
DTSTART:20260310T220000Z
DTEND:20260311T000000Z
SUMMARY:Impact de la séparation/du divorce pour parents
LOCATION:virtuelle
END:VEVENT
END:VCALENDAR
