BEGIN:VCALENDAR
VERSION:2.0
METHOD:PUBLISH
BEGIN:VEVENT
DTSTAMP:20260421T082457Z
DTSTART:20260319T160000Z
DTEND:20260320T000000Z
SUMMARY:Services de consultation pour les jeunes, leurs parents et leurs aidants
LOCATION:2225, chemin Mer Bleue, Orleans, Ontario
END:VEVENT
END:VCALENDAR
