BEGIN:VCALENDAR
VERSION:2.0
METHOD:PUBLISH
BEGIN:VEVENT
DTSTAMP:20260421T081806Z
DTSTART:20260324T223000Z
DTEND:20260325T003000Z
SUMMARY:Juste pour papa
LOCATION:conference vidéo
END:VEVENT
END:VCALENDAR
