BEGIN:VCALENDAR
VERSION:2.0
METHOD:PUBLISH
BEGIN:VEVENT
DTSTAMP:20260421T094135Z
DTSTART:20260401T210000Z
DTEND:20260401T223000Z
SUMMARY:SNAP (Stop, n'Agis pas, Analyse, planifie)
LOCATION:610 avenue McConnell, Cornwall
END:VEVENT
END:VCALENDAR
