BEGIN:VCALENDAR
VERSION:2.0
METHOD:PUBLISH
BEGIN:VEVENT
DTSTAMP:20260421T084113Z
DTSTART:20260521T230000Z
DTEND:20260522T003000Z
SUMMARY:SMART recovery:  famille et amis
LOCATION:Join here: https://us02web.zoom.us/j/293138126
END:VEVENT
END:VCALENDAR
