BEGIN:VCALENDAR
VERSION:2.0
METHOD:PUBLISH
BEGIN:VEVENT
DTSTAMP:20260421T081919Z
DTSTART:20260716T223000Z
DTEND:20260717T000000Z
SUMMARY:Groupe de soutien aux parents de Manotick et des environs
LOCATION:Club Lume (1138 Rue Tighe)
END:VEVENT
END:VCALENDAR
