BEGIN:VCALENDAR
VERSION:2.0
METHOD:PUBLISH
BEGIN:VEVENT
DTSTAMP:20260421T094319Z
DTSTART:20260806T160000Z
DTEND:20260807T000000Z
SUMMARY:Services de consultation pour les jeunes, leurs parents et leurs aidants
LOCATION:2225, chemin Mer Bleue, Orleans, Ontario
END:VEVENT
END:VCALENDAR
