BEGIN:VCALENDAR
VERSION:2.0
METHOD:PUBLISH
BEGIN:VEVENT
DTSTAMP:20260421T094249Z
DTSTART:20261001T160000Z
DTEND:20261002T000000Z
SUMMARY:Services de consultation pour les jeunes, leurs parents et leurs aidants
LOCATION:300 - 1355 rue Bank, Ottawa
END:VEVENT
END:VCALENDAR
