BEGIN:VCALENDAR
VERSION:2.0
METHOD:PUBLISH
BEGIN:VEVENT
DTSTAMP:20260421T081541Z
DTSTART:20261031T223000Z
DTEND:20261101T000000Z
SUMMARY:groupe de soutien aux parents en milieu rural d'Ottawa 
LOCATION:Willow Wellness - 5944 Perth Street, Richmond)
END:VEVENT
END:VCALENDAR
