BEGIN:VCALENDAR
VERSION:2.0
METHOD:PUBLISH
BEGIN:VEVENT
DTSTAMP:20260421T094454Z
DTSTART:20261119T170000Z
DTEND:20261120T010000Z
SUMMARY:Services de consultation pour les jeunes, leurs parents et leurs aidants
LOCATION:2225, chemin Mer Bleue, Orleans, Ontario
END:VEVENT
END:VCALENDAR
