BEGIN:VCALENDAR
VERSION:2.0
METHOD:PUBLISH
BEGIN:VEVENT
DTSTAMP:20260421T095333Z
DTSTART:20270105T233000Z
DTEND:20270106T010000Z
SUMMARY:Renfrew County Parent Support Group
LOCATION:Centre myFM (1 Ma Te Way Park Drive, Renfrew) à l'intérieur de la salle YWHO Renfrew County au 2e étage (entrez dans le bâtiment myFM par les portes du parking arrière et prenez les escaliers jusqu'au 2e étage).
END:VEVENT
END:VCALENDAR
