BEGIN:VCALENDAR
VERSION:2.0
METHOD:PUBLISH
BEGIN:VEVENT
DTSTAMP:20260424T132051Z
DTSTART:20260421T170000Z
DTEND:20260421T180000Z
SUMMARY:Communicating with Children and Families
LOCATION:virtual
END:VEVENT
END:VCALENDAR
