BEGIN:VCALENDAR
VERSION:2.0
METHOD:PUBLISH
BEGIN:VEVENT
DTSTAMP:20260422T063219Z
DTSTART:20260507T140000Z
DTEND:20260507T153000Z
SUMMARY:Care and Maintenance of G Tubes
LOCATION:virtual
END:VEVENT
END:VCALENDAR
