BEGIN:VCALENDAR
VERSION:2.0
METHOD:PUBLISH
BEGIN:VEVENT
DTSTAMP:20260422T062629Z
DTSTART:20260512T140000Z
DTEND:20260512T153000Z
SUMMARY:Central Vascular Access Devices (FOR RN/RPN)
LOCATION:virtual
END:VEVENT
END:VCALENDAR
