BEGIN:VCALENDAR
VERSION:2.0
METHOD:PUBLISH
BEGIN:VEVENT
DTSTAMP:20260422T062844Z
DTSTART:20260521T150000Z
DTEND:20260521T160000Z
SUMMARY:Pediatric Health Assessment
LOCATION:virtual
END:VEVENT
END:VCALENDAR
