BEGIN:VCALENDAR
VERSION:2.0
METHOD:PUBLISH
BEGIN:VEVENT
DTSTAMP:20260422T062705Z
DTSTART:20260616T130000Z
DTEND:20260616T200000Z
SUMMARY:Pediatric Tracheostomy with Invasive Ventilation DAY 2 
LOCATION:CHEO - 401 Smyth Road, Ottawa - room R154
END:VEVENT
END:VCALENDAR
