BEGIN:VCALENDAR
VERSION:2.0
METHOD:PUBLISH
BEGIN:VEVENT
DTSTAMP:20260422T062826Z
DTSTART:20260709T130000Z
DTEND:20260709T200000Z
SUMMARY:Pediatric Tracheostomy with Invasive Ventilation DAY 2 
LOCATION:CHEO - 401 Smyth Road, Ottawa - room 1089A
END:VEVENT
END:VCALENDAR
