BEGIN:VCALENDAR
VERSION:2.0
METHOD:PUBLISH
BEGIN:VEVENT
DTSTAMP:20260422T062949Z
DTSTART:20260715T130000Z
DTEND:20260715T200000Z
SUMMARY:Non-Invasive Ventilation/Airway Clearance/Cough Assist (FOR RN/RPNs)
LOCATION:CHEO - 401 Smyth Road, Ottawa - room R154
END:VEVENT
END:VCALENDAR
