BEGIN:VCALENDAR
VERSION:2.0
METHOD:PUBLISH
BEGIN:VEVENT
DTSTAMP:20260422T081419Z
DTSTART:20260813T130000Z
DTEND:20260813T200000Z
SUMMARY:Pediatric Tracheostomy with Invasive Ventilation DAY 1 
LOCATION:CHEO - 401 Smyth Road, Ottawa - room 1089A
END:VEVENT
END:VCALENDAR
